BEGIN:VCALENDAR
VERSION:2.0
PRODID:-//Southern Colorado Technology Alliance - ECPv4.5.1//NONSGML v1.0//EN
CALSCALE:GREGORIAN
METHOD:PUBLISH
X-WR-CALNAME:Southern Colorado Technology Alliance
X-ORIGINAL-URL:https://www.socota.org
X-WR-CALDESC:Events for Southern Colorado Technology Alliance
BEGIN:VEVENT
DTSTART;TZID=America/Denver:20171115T090000
DTEND;TZID=America/Denver:20171115T110000
DTSTAMP:20260424T215406
CREATED:20170922T154022Z
LAST-MODIFIED:20170922T154022Z
UID:1772-1510736400-1510743600@www.socota.org
SUMMARY:1 Million Cups
DESCRIPTION:Based on the notion that entrepreneurs discover solutions and network over a million cups of coffee\, the Kauffman Foundation developed 1 Million Cups – a free program designed to educate\, engage\, and connect entrepreneurs with their communities. \nhttp://www.1millioncups.com/about 
URL:https://www.socota.org/event/1-million-cups-8/
END:VEVENT
BEGIN:VEVENT
DTSTART;TZID=America/Denver:20171115T140000
DTEND;TZID=America/Denver:20171115T160000
DTSTAMP:20260424T215406
CREATED:20170922T154027Z
LAST-MODIFIED:20170922T154027Z
UID:1773-1510754400-1510761600@www.socota.org
SUMMARY:SCTA November Monthly Board Meeting
DESCRIPTION:Monthly Board Meeting 
URL:https://www.socota.org/event/scta-november-monthly-board-meeting/
CATEGORIES:SCTA Board Members
END:VEVENT
BEGIN:VEVENT
DTSTART;TZID=America/Denver:20171115T153000
DTEND;TZID=America/Denver:20171115T163000
DTSTAMP:20260424T215406
CREATED:20171030T210141Z
LAST-MODIFIED:20171030T210141Z
UID:1844-1510759800-1510763400@www.socota.org
SUMMARY:ViaSat Industry Briefing for SCTA Members
DESCRIPTION:SCTA Members\,\n\nJoin us for a ViaSat Industry briefing with Fred Taylor\, Vice President of Space and Cyber Applications\, on November 15th.  Fred would like to get to know your organization/capabilities and share opportunities for SCTA members to collaborate with ViaSat.
URL:https://www.socota.org/event/viasat-industry-briefing-scta-members/
CATEGORIES:Catalyst Campus,SCTA,SCTA Board Members,SCTA Members Only
END:VEVENT
BEGIN:VEVENT
DTSTART;TZID=America/Denver:20171115T173000
DTEND;TZID=America/Denver:20171115T200000
DTSTAMP:20260424T215406
CREATED:20170922T154027Z
LAST-MODIFIED:20170922T154027Z
UID:1774-1510767000-1510776000@www.socota.org
SUMMARY:PIKES PEAK WATERCOLOR SOCIETY
DESCRIPTION:
URL:https://www.socota.org/event/pikes-peak-watercolor-society-2/
END:VEVENT
END:VCALENDAR