BEGIN:VCALENDAR
VERSION:2.0
PRODID:-//Southern Colorado Technology Alliance - ECPv4.5.1//NONSGML v1.0//EN
CALSCALE:GREGORIAN
METHOD:PUBLISH
X-WR-CALNAME:Southern Colorado Technology Alliance
X-ORIGINAL-URL:https://www.socota.org
X-WR-CALDESC:Events for Southern Colorado Technology Alliance
BEGIN:VEVENT
DTSTART;TZID=America/Denver:20171020T153000
DTEND;TZID=America/Denver:20171103T173000
DTSTAMP:20260424T230834
CREATED:20171020T175919Z
LAST-MODIFIED:20171020T175919Z
UID:1833-1508513400-1509730200@www.socota.org
SUMMARY:National Veterans Small Business Week: Closing Reception
DESCRIPTION:Come join your host\, the Pikes Peak Small Business Development Center for a networking reception to close out Veterans Entrepreneurial Week! All Veterans\, Active Duty Military and their families in small business are invited to join the SBDC! Meet the SBDC Veterans Small Business Program Consultants along with the Small Business Administration and local resource partners that can assist you with your business needs. Light refreshments and drinks will be provided!
URL:https://www.socota.org/event/national-veterans-small-business-week-closing-reception/
LOCATION:555 Pikes Peak Ave\, Colorado Springs\, CO\, 80903\, United States
CATEGORIES:Sbdc
END:VEVENT
BEGIN:VEVENT
DTSTART;TZID=America/Denver:20171102T180000
DTEND;TZID=America/Denver:20171102T203000
DTSTAMP:20260424T230835
CREATED:20170922T153133Z
LAST-MODIFIED:20170922T153133Z
UID:1761-1509645600-1509654600@www.socota.org
SUMMARY:LEADING EDGE FOR TRANSPORTATION (9 WEEK COURSE)
DESCRIPTION:Have you been looking for a way to get your foot in the door and become a money-making CDOT contractor? Do you want to successfully perform on all types of government transportation contracts? The Connect2DOT LEADING EDGE for Transportation course is a nine-week course tailored to business owners in the highway design and construction industry. The course builds on the award-winning LEADING EDGE curriculum and was customized by industry experts to help you determine the best growth strategy for your business to successfully perform on projects with CDOT and other USDOT-funded contracts. \nBy the end of the course\, you will have an actionable business development plan in place and a solid understanding of course topics – including strategic planning\, construction and managerial accounting\, prime contractor marketing\, estimating and bidding\, and project management. You will also receive recognition by the Colorado Transportation Commission\, CDOT Project Managers\, and Prime Contractors! 
URL:https://www.socota.org/event/leading-edge-for-transportation-9-week-course-4/
CATEGORIES:Sbdc
END:VEVENT
END:VCALENDAR