BEGIN:VCALENDAR
VERSION:2.0
PRODID:-//Southern Colorado Technology Alliance - ECPv4.5.1//NONSGML v1.0//EN
CALSCALE:GREGORIAN
METHOD:PUBLISH
X-WR-CALNAME:Southern Colorado Technology Alliance
X-ORIGINAL-URL:https://www.socota.org
X-WR-CALDESC:Events for Southern Colorado Technology Alliance
BEGIN:VEVENT
DTSTART;TZID=America/Denver:20171108T113000
DTEND;TZID=America/Denver:20171108T130000
DTSTAMP:20260423T210508
CREATED:20170922T154021Z
LAST-MODIFIED:20170922T154021Z
UID:1769-1510140600-1510146000@www.socota.org
SUMMARY:Where's The Money?! Funding Options for Starting or Growing Your Business
DESCRIPTION:Whether you are just starting your business or need more funding for an existing business\, finding the money for your venture is one of the most tricky hurdles to overcome. There are a variety of ways you can find funding\, and a variety of organizations\, people\, and resources available to you. What options are right for you? Where should you even start? We designed this course to be an insightful overview of the various options available to you — including traditional bank loans\, microlending\, SBA loans\, venture capital\, angel investing\, grant-funding\, crowd-funding\, bootstrapping\, etc.\nPresented by:\nRobin Roberts\nPresident\, Pikes Peak National Bank\nRegister Now 
URL:https://www.socota.org/event/wheres-the-money-funding-options-for-starting-or-growing-your-business/
CATEGORIES:Sbdc
END:VEVENT
END:VCALENDAR