BEGIN:VCALENDAR
VERSION:2.0
PRODID:-//Southern Colorado Technology Alliance - ECPv4.5.1//NONSGML v1.0//EN
CALSCALE:GREGORIAN
METHOD:PUBLISH
X-WR-CALNAME:Southern Colorado Technology Alliance
X-ORIGINAL-URL:https://www.socota.org
X-WR-CALDESC:Events for Southern Colorado Technology Alliance
BEGIN:VEVENT
DTSTART;TZID=America/Denver:20171024T173000
DTEND;TZID=America/Denver:20171024T190000
DTSTAMP:20260423T102355
CREATED:20170922T153130Z
LAST-MODIFIED:20170922T153130Z
UID:1756-1508866200-1508871600@www.socota.org
SUMMARY:Tech Talk: Process Robotics hosted by Deloitte & Catalyst Campus
DESCRIPTION:Catalyst Campus launches Tech Talks with Deloitte on Tuesday\, October 24th with a discussion on Process Robotics – An emerging solution to unfunded mandates\, shrinking federal workforce\, and excessive contractor spend. \nWhat is Process Robotics?\nIf funding could be redirected to mission\, if long delays in basic business processing could be improved\, if service levels could be tightened without millions of dollars of investment\, would you engage? Is it real? Has the time come for this simple technology? The solution set around Process Robotics has moved into production in the commercial sector. In the most simple terms\, the technology mimics the user\, with the same security rule set as a user\, requires minimal system integration\, can be implemented in months\, and initial findings are freeing up dollars. Interesting? 
URL:https://www.socota.org/event/tech-talk-process-robotics-hosted-by-deloitte-catalyst-campus/
CATEGORIES:Catalyst Campus,SCTA
ORGANIZER;CN="Catalyst%2520Campus":MAILTO:info@catalystcampus.com
END:VEVENT
END:VCALENDAR