BEGIN:VCALENDAR
VERSION:2.0
PRODID:-//Southern Colorado Technology Alliance - ECPv4.5.1//NONSGML v1.0//EN
CALSCALE:GREGORIAN
METHOD:PUBLISH
X-WR-CALNAME:Southern Colorado Technology Alliance
X-ORIGINAL-URL:https://www.socota.org
X-WR-CALDESC:Events for Southern Colorado Technology Alliance
BEGIN:VEVENT
DTSTART;TZID=America/Denver:20170726T170000
DTEND;TZID=America/Denver:20170726T190000
DTSTAMP:20260424T082948
CREATED:20170627T154209Z
LAST-MODIFIED:20170627T154209Z
UID:1670-1501088400-1501095600@www.socota.org
SUMMARY:Support Services Launch Party at Catalyst Campus!
DESCRIPTION:Support Services Launch Party at Catalyst Campus!  Catalyst Campus Support Service offices in Suite 120 are full of business experts - Let us introduce you to our Support Services members over a beer!\n\nMarketing & Advertising: Blakely & Company\nStrategic Management\, Proposal and Capture Support:  LSI \nAccounting: govIRG and Stockman Kast Ryan + CO\nLegal: Lewis Rocca and Sparks Willson \nBanking: Herring Bank
URL:https://www.socota.org/event/support-services-launch-party-at-catalyst-campus/
END:VEVENT
END:VCALENDAR