BEGIN:VCALENDAR
VERSION:2.0
PRODID:-//Southern Colorado Technology Alliance - ECPv4.5.1//NONSGML v1.0//EN
CALSCALE:GREGORIAN
METHOD:PUBLISH
X-WR-CALNAME:Southern Colorado Technology Alliance
X-ORIGINAL-URL:https://www.socota.org
X-WR-CALDESC:Events for Southern Colorado Technology Alliance
BEGIN:VEVENT
DTSTART;TZID=America/Denver:20171026T090000
DTEND;TZID=America/Denver:20171026T120000
DTSTAMP:20260423T134502
CREATED:20170922T153130Z
LAST-MODIFIED:20170922T153130Z
UID:1758-1509008400-1509019200@www.socota.org
SUMMARY:Strategic Business Planning Using the Business Model Canvas
DESCRIPTION:Learn how this relatively new and more visually-based business planning methodology allows you to describe\, design\, challenge\, invent and pivot your business model. Great for people writing business plans\, strategic plans\, or wanting to document/describe existing business models! \nThis class is taught by SBDC consultant and workshop facilitator\, Steve Imke. Included in your registration fee is a free e-copy of his book\n“Applying the Business Model Canvas: A Practical Guide for Small Business” \nRegister Now 
URL:https://www.socota.org/event/strategic-business-planning-using-the-business-model-canvas/
CATEGORIES:Sbdc
END:VEVENT
END:VCALENDAR