BEGIN:VCALENDAR
VERSION:2.0
PRODID:-//Southern Colorado Technology Alliance - ECPv4.5.1//NONSGML v1.0//EN
CALSCALE:GREGORIAN
METHOD:PUBLISH
X-WR-CALNAME:Southern Colorado Technology Alliance
X-ORIGINAL-URL:https://www.socota.org
X-WR-CALDESC:Events for Southern Colorado Technology Alliance
BEGIN:VEVENT
DTSTART;TZID=America/Denver:20171019T113000
DTEND;TZID=America/Denver:20171019T130000
DTSTAMP:20260421T035651
CREATED:20170922T153127Z
LAST-MODIFIED:20170922T153127Z
UID:1752-1508412600-1508418000@www.socota.org
SUMMARY:Sole Proprietor\, LLC\, or Corp? Choosing the Right Business Structure
DESCRIPTION:This workshop\, facilitated by local attorney Terence Doherty\, Esq\, is designed to help you make an informed decision about which legal business entity is best for your business.  We will discuss the differences between a sole proprietorship\, LLC\, S-Corp\, and C-Corp. As a result\, you will understand the practical and legal implications of each type!\n Register Now 
URL:https://www.socota.org/event/sole-proprietor-llc-or-corp-choosing-the-right-business-structure/
CATEGORIES:Sbdc
END:VEVENT
END:VCALENDAR