BEGIN:VCALENDAR
VERSION:2.0
PRODID:-//Southern Colorado Technology Alliance - ECPv4.5.1//NONSGML v1.0//EN
CALSCALE:GREGORIAN
METHOD:PUBLISH
X-WR-CALNAME:Southern Colorado Technology Alliance
X-ORIGINAL-URL:https://www.socota.org
X-WR-CALDESC:Events for Southern Colorado Technology Alliance
BEGIN:VEVENT
DTSTART;TZID=America/Denver:20171017T080000
DTEND;TZID=America/Denver:20171017T093000
DTSTAMP:20260420T230654
CREATED:20170828T173855Z
LAST-MODIFIED:20170922T150508Z
UID:1710-1508227200-1508232600@www.socota.org
SUMMARY:Securing Your Competitive Edge — Protect Your IP Presented by Martensen IP
DESCRIPTION:Martensen IP in partnership with the Southern Colorado Technology Alliance presents the Securing Your Competitive Edge — Protect Your IP seminar at Catalyst Campus.\n\n \n\n
URL:https://www.socota.org/event/securing-competitive-edge-protect-ip-presented-martensen-ip/
LOCATION:555 Pikes Peak Ave\, Colorado Springs\, CO\, 80903\, United States
CATEGORIES:SCTA
END:VEVENT
END:VCALENDAR