BEGIN:VCALENDAR
VERSION:2.0
PRODID:-//Southern Colorado Technology Alliance - ECPv4.5.1//NONSGML v1.0//EN
CALSCALE:GREGORIAN
METHOD:PUBLISH
X-WR-CALNAME:Southern Colorado Technology Alliance
X-ORIGINAL-URL:https://www.socota.org
X-WR-CALDESC:Events for Southern Colorado Technology Alliance
BEGIN:VEVENT
DTSTART;TZID=America/Denver:20171018T140000
DTEND;TZID=America/Denver:20171018T160000
DTSTAMP:20260421T022633
CREATED:20170922T153126Z
LAST-MODIFIED:20170922T153126Z
UID:1749-1508335200-1508342400@www.socota.org
SUMMARY:SCTA October Monthly Board Meeting
DESCRIPTION:Monthly Board Meeting 
URL:https://www.socota.org/event/scta-october-monthly-board-meeting/
CATEGORIES:SCTA Board Members
END:VEVENT
END:VCALENDAR