BEGIN:VCALENDAR
VERSION:2.0
PRODID:-//Southern Colorado Technology Alliance - ECPv4.5.1//NONSGML v1.0//EN
CALSCALE:GREGORIAN
METHOD:PUBLISH
X-WR-CALNAME:Southern Colorado Technology Alliance
X-ORIGINAL-URL:https://www.socota.org
X-WR-CALDESC:Events for Southern Colorado Technology Alliance
BEGIN:VEVENT
DTSTART;TZID=America/Denver:20170125T113000
DTEND;TZID=America/Denver:20170125T130000
DTSTAMP:20260425T121052
CREATED:20161220T212356Z
LAST-MODIFIED:20170109T233854Z
UID:887-1485343800-1485349200@www.socota.org
SUMMARY:SCTA Luncheon with LTC Kevin Geisbert and Brad Baehr; Army Future Warefare Center
DESCRIPTION:\n\n\nArmy Warfare Center to provide unclassified overview of projects.\n\n\n
URL:https://www.socota.org/event/scta-luncheon-with-ltc-kevin-geisbert-and-brad-baehr-army-future-warefare-center/
LOCATION:555 Pikes Peak Ave\, Colorado Springs\, CO\, 80903\, United States
CATEGORIES:SCTA Members Only
ORGANIZER;CN="Rebecca%20Decker":MAILTO:rebecca.decker@dev.socota.org
END:VEVENT
END:VCALENDAR