BEGIN:VCALENDAR
VERSION:2.0
PRODID:-//Southern Colorado Technology Alliance - ECPv4.5.1//NONSGML v1.0//EN
CALSCALE:GREGORIAN
METHOD:PUBLISH
X-WR-CALNAME:Southern Colorado Technology Alliance
X-ORIGINAL-URL:https://www.socota.org
X-WR-CALDESC:Events for Southern Colorado Technology Alliance
BEGIN:VEVENT
DTSTART;TZID=America/Denver:20170614T140000
DTEND;TZID=America/Denver:20170614T160000
DTSTAMP:20260424T071651
CREATED:20170309T221148Z
LAST-MODIFIED:20170309T221148Z
UID:1511-1497448800-1497456000@www.socota.org
SUMMARY:SCTA June Monthly Board Meeting
DESCRIPTION:Monthly Board Meeting
URL:https://www.socota.org/event/scta-june-monthly-board-meeting-2/
CATEGORIES:SCTA Board Members
END:VEVENT
END:VCALENDAR