BEGIN:VCALENDAR
VERSION:2.0
PRODID:-//Southern Colorado Technology Alliance - ECPv4.5.1//NONSGML v1.0//EN
CALSCALE:GREGORIAN
METHOD:PUBLISH
X-WR-CALNAME:Southern Colorado Technology Alliance
X-ORIGINAL-URL:https://www.socota.org
X-WR-CALDESC:Events for Southern Colorado Technology Alliance
BEGIN:VEVENT
DTSTART;TZID=America/Denver:20170126T100000
DTEND;TZID=America/Denver:20170126T113000
DTSTAMP:20260425T121956
CREATED:20161220T212527Z
LAST-MODIFIED:20161229T182022Z
UID:889-1485424800-1485430200@www.socota.org
SUMMARY:SCTA Industry Briefing
DESCRIPTION:\n \tSAIC with Russ Fellers\n
URL:https://www.socota.org/event/scta-industry-briefing/
LOCATION:555 Pikes Peak Ave\, Colorado Springs\, CO\, 80903\, United States
CATEGORIES:SCTA Members Only
ORGANIZER;CN="Rebecca%20Decker":MAILTO:rebecca.decker@dev.socota.org
END:VEVENT
END:VCALENDAR