BEGIN:VCALENDAR
VERSION:2.0
PRODID:-//Southern Colorado Technology Alliance - ECPv4.5.1//NONSGML v1.0//EN
CALSCALE:GREGORIAN
METHOD:PUBLISH
X-WR-CALNAME:Southern Colorado Technology Alliance
X-ORIGINAL-URL:https://www.socota.org
X-WR-CALDESC:Events for Southern Colorado Technology Alliance
BEGIN:VEVENT
DTSTART;TZID=America/Denver:20171213T170000
DTEND;TZID=America/Denver:20171213T190000
DTSTAMP:20260424T142742
CREATED:20170111T191109Z
LAST-MODIFIED:20170113T190651Z
UID:1342-1513184400-1513191600@www.socota.org
SUMMARY:SCTA Holiday Party
DESCRIPTION:
URL:https://www.socota.org/event/scta-holiday-party/
CATEGORIES:SCTA
ORGANIZER;CN="Rebecca%20Decker":MAILTO:rebecca.decker@dev.socota.org
END:VEVENT
END:VCALENDAR