BEGIN:VCALENDAR
VERSION:2.0
PRODID:-//Southern Colorado Technology Alliance - ECPv4.5.1//NONSGML v1.0//EN
CALSCALE:GREGORIAN
METHOD:PUBLISH
X-WR-CALNAME:Southern Colorado Technology Alliance
X-ORIGINAL-URL:https://www.socota.org
X-WR-CALDESC:Events for Southern Colorado Technology Alliance
BEGIN:VEVENT
DTSTART;TZID=America/Denver:20171213T140000
DTEND;TZID=America/Denver:20171213T160000
DTSTAMP:20260424T144809
CREATED:20170922T165229Z
LAST-MODIFIED:20170922T165229Z
UID:1813-1513173600-1513180800@www.socota.org
SUMMARY:SCTA December Monthly Board Meeting
DESCRIPTION:Monthly Board Meeting 
URL:https://www.socota.org/event/scta-december-monthly-board-meeting/
CATEGORIES:SCTA Board Members
END:VEVENT
END:VCALENDAR