BEGIN:VCALENDAR
VERSION:2.0
PRODID:-//Southern Colorado Technology Alliance - ECPv4.5.1//NONSGML v1.0//EN
CALSCALE:GREGORIAN
METHOD:PUBLISH
X-WR-CALNAME:Southern Colorado Technology Alliance
X-ORIGINAL-URL:https://www.socota.org
X-WR-CALDESC:Events for Southern Colorado Technology Alliance
BEGIN:VEVENT
DTSTART;TZID=America/Denver:20171213T113000
DTEND;TZID=America/Denver:20171213T130000
DTSTAMP:20260424T192752
CREATED:20170922T165229Z
LAST-MODIFIED:20170922T165229Z
UID:1812-1513164600-1513170000@www.socota.org
SUMMARY:SCTA December Lunch
DESCRIPTION:Exclusive SCTA Member Luncheon 
URL:https://www.socota.org/event/scta-december-lunch/
CATEGORIES:SCTA Members Only
END:VEVENT
END:VCALENDAR