BEGIN:VCALENDAR
VERSION:2.0
PRODID:-//Southern Colorado Technology Alliance - ECPv4.5.1//NONSGML v1.0//EN
CALSCALE:GREGORIAN
METHOD:PUBLISH
X-WR-CALNAME:Southern Colorado Technology Alliance
X-ORIGINAL-URL:https://www.socota.org
X-WR-CALDESC:Events for Southern Colorado Technology Alliance
BEGIN:VEVENT
DTSTART;TZID=America/Denver:20171120T123000
DTEND;TZID=America/Denver:20171120T170000
DTSTAMP:20260424T024459
CREATED:20170922T154027Z
LAST-MODIFIED:20170922T154027Z
UID:1777-1511181000-1511197200@www.socota.org
SUMMARY:QuickBooks Desktop Pro: Mastering - Part 2
DESCRIPTION:Since you’ve learned the basics of QuickBooks Desktop in Part 1\, this class will build on that foundation to teach you more advanced processes within the software.  This interactive course will cover: \n1. Credit card accounts and transactions; how to create and track asset and liability accounts; and an introduction to equity accounts;\n2. Sales and purchase forms; how to create a new invoice; the QuickBooks Item list and how to add new items; how to create invoice letters & sales orders; and how to track backorders;\n3. How to record customer payments; how to handle customer discounts\, partial payments\, overpayments\, or down payments; how to record a deposit\, including cash back; how to process credit cards\n4. Financial data tools: QuickReports\, preset reports\, and graphs; how to save reports in Excel or PDF format. \nFor more info Click Here\nRegister Now 
URL:https://www.socota.org/event/quickbooks-desktop-pro-mastering-part-2/
CATEGORIES:Sbdc
END:VEVENT
END:VCALENDAR