BEGIN:VCALENDAR
VERSION:2.0
PRODID:-//Southern Colorado Technology Alliance - ECPv4.5.1//NONSGML v1.0//EN
CALSCALE:GREGORIAN
METHOD:PUBLISH
X-WR-CALNAME:Southern Colorado Technology Alliance
X-ORIGINAL-URL:https://www.socota.org
X-WR-CALDESC:Events for Southern Colorado Technology Alliance
BEGIN:VEVENT
DTSTART;TZID=America/Denver:20171127T123000
DTEND;TZID=America/Denver:20171127T170000
DTSTAMP:20260424T040212
CREATED:20170922T154030Z
LAST-MODIFIED:20170922T154030Z
UID:1778-1511785800-1511802000@www.socota.org
SUMMARY:QuickBooks Desktop Pro: Advanced - Part 3
DESCRIPTION:This class is for the advanced QuickBooks Desktop user with a product business in need to track inventory\, sales tax\, estimates\, payroll\, and time per project. This interactive session will cover: \nGet an overview of inventory\, use purchase orders and track the receipt of inventory\, make manual inventory adjustments and set up units of measure\nAn overview of sales tax rates and agencies\, track sales tax and how to apply sales tax to a sale\, determine sales tax liability\, and review activities\nGet an overview of payroll and how to setup: payroll\, employee information\, schedules\, paychecks\, and tax liabilities\nLearn how to create job estimates and progress invoicing\, create duplicate estimates\, create invoices from an estimate\, and updating job status\nLearn how to track time worked on a project\, how to invoice a customer from tracked time\, create project reports\, track time worked by owners or partners\, and pay nonemployees for time worked.\nLearn how to modify the format of an invoice\, design a custom invoice form\, prepare a collection letter and edit pre-written letters in QuickBooks. \nPresented by:\nDenice Tinsley\nQuickBooks Pro Advisor \nFor more info Click Here\nRegister Now 
URL:https://www.socota.org/event/quickbooks-desktop-pro-advanced-part-3/
CATEGORIES:Sbdc
END:VEVENT
END:VCALENDAR