BEGIN:VCALENDAR
VERSION:2.0
PRODID:-//Southern Colorado Technology Alliance - ECPv4.5.1//NONSGML v1.0//EN
CALSCALE:GREGORIAN
METHOD:PUBLISH
X-WR-CALNAME:Southern Colorado Technology Alliance
X-ORIGINAL-URL:https://www.socota.org
X-WR-CALDESC:Events for Southern Colorado Technology Alliance
BEGIN:VEVENT
DTSTART;TZID=America/Denver:20171129T113000
DTEND;TZID=America/Denver:20171129T130000
DTSTAMP:20260424T085024
CREATED:20170922T154031Z
LAST-MODIFIED:20170922T154031Z
UID:1781-1511955000-1511960400@www.socota.org
SUMMARY:Positioning Your Business For Sale
DESCRIPTION:Whether you’re just starting a new business or actively looking to sell it’s never too early to begin positioning your business for sale. In this workshop you’ll learn the steps you can start taking now to maximize your business value and preparing your exit strategy. We’ll cover topics such as financial records\, market valuation\, the acquisition team\, the presale audit\, customer concentration\, intangible assets\, etc. We’ll also cover current market trends and the economic outlook for small business over the next 5 years.  \nPresented by:\nRob Amerine\nBusiness Intermediary\, The FBB Group\, Ltd.  \nFor more info Click Here\nRegister Now  
URL:https://www.socota.org/event/positioning-your-business-for-sale-2/
CATEGORIES:Sbdc
END:VEVENT
END:VCALENDAR