BEGIN:VCALENDAR
VERSION:2.0
PRODID:-//Southern Colorado Technology Alliance - ECPv4.5.1//NONSGML v1.0//EN
CALSCALE:GREGORIAN
METHOD:PUBLISH
X-WR-CALNAME:Southern Colorado Technology Alliance
X-ORIGINAL-URL:https://www.socota.org
X-WR-CALDESC:Events for Southern Colorado Technology Alliance
BEGIN:VEVENT
DTSTART;TZID=America/Denver:20171018T173000
DTEND;TZID=America/Denver:20171018T200000
DTSTAMP:20260421T052734
CREATED:20170922T153127Z
LAST-MODIFIED:20170922T153127Z
UID:1751-1508347800-1508356800@www.socota.org
SUMMARY:PIKES PEAK WATERCOLOR SOCIETY
DESCRIPTION:
URL:https://www.socota.org/event/pikes-peak-watercolor-society/
END:VEVENT
END:VCALENDAR