BEGIN:VCALENDAR
VERSION:2.0
PRODID:-//Southern Colorado Technology Alliance - ECPv4.5.1//NONSGML v1.0//EN
CALSCALE:GREGORIAN
METHOD:PUBLISH
X-WR-CALNAME:Southern Colorado Technology Alliance
X-ORIGINAL-URL:https://www.socota.org
X-WR-CALDESC:Events for Southern Colorado Technology Alliance
BEGIN:VEVENT
DTSTART;TZID=America/Denver:20171012T180000
DTEND;TZID=America/Denver:20171012T203000
DTSTAMP:20260420T214024
CREATED:20170922T153123Z
LAST-MODIFIED:20170922T153123Z
UID:1745-1507831200-1507840200@www.socota.org
SUMMARY:LEADING EDGE FOR TRANSPORTATION (9 Week Course)
DESCRIPTION:Have you been looking for a way to get your foot in the door and become a money-making CDOT contractor? Do you want to successfully perform on all types of government transportation contracts? The Connect2DOT LEADING EDGE for Transportation course is a nine-week course tailored to business owners in the highway design and construction industry. The course builds on the award-winning LEADING EDGE curriculum and was customized by industry experts to help you determine the best growth strategy for your business to successfully perform on projects with CDOT and other USDOT-funded contracts.  \nBy the end of the course\, you will have an actionable business development plan in place and a solid understanding of course topics – including strategic planning\, construction and managerial accounting\, prime contractor marketing\, estimating and bidding\, and project management. You will also receive recognition by the Colorado Transportation Commission\, CDOT Project Managers\, and Prime Contractors! \nClick Here For More Info 
URL:https://www.socota.org/event/leading-edge-for-transportation-9-week-course/
END:VEVENT
END:VCALENDAR