BEGIN:VCALENDAR
VERSION:2.0
PRODID:-//Southern Colorado Technology Alliance - ECPv4.5.1//NONSGML v1.0//EN
CALSCALE:GREGORIAN
METHOD:PUBLISH
X-WR-CALNAME:Southern Colorado Technology Alliance
X-ORIGINAL-URL:https://www.socota.org
X-WR-CALDESC:Events for Southern Colorado Technology Alliance
BEGIN:VEVENT
DTSTART;TZID=America/Denver:20171114T080000
DTEND;TZID=America/Denver:20171114T093000
DTSTAMP:20260423T223654
CREATED:20170828T174458Z
LAST-MODIFIED:20170912T192903Z
UID:1712-1510646400-1510651800@www.socota.org
SUMMARY:IP Pitfalls in Experimentation and Prototyping in the Government Marketplace
DESCRIPTION:Martensen IP in partnership with the Southern Colorado Technology Alliance presents the IP Pitfalls in Experimentation and Prototyping in the Government Marketplace seminar at Catalyst Campus.
URL:https://www.socota.org/event/ip-pitfalls-experimentation-prototyping-government-marketplace/
LOCATION:555 Pikes Peak Ave\, Colorado Springs\, 80903\, United States
CATEGORIES:SCTA
END:VEVENT
END:VCALENDAR