BEGIN:VCALENDAR
VERSION:2.0
PRODID:-//Southern Colorado Technology Alliance - ECPv4.5.1//NONSGML v1.0//EN
CALSCALE:GREGORIAN
METHOD:PUBLISH
X-WR-CALNAME:Southern Colorado Technology Alliance
X-ORIGINAL-URL:https://www.socota.org
X-WR-CALDESC:Events for Southern Colorado Technology Alliance
BEGIN:VEVENT
DTSTART;TZID=America/Denver:20170711T080000
DTEND;TZID=America/Denver:20170711T093000
DTSTAMP:20260424T054518
CREATED:20170622T162309Z
LAST-MODIFIED:20170622T162309Z
UID:1645-1499760000-1499765400@www.socota.org
SUMMARY:INNOVATION WITHOUT PROTECTION IS PHILANTHROPY Seminar
DESCRIPTION: \n\n\n\n"INNOVATION WITHOUT PROTECTION IS PHILANTHROPY."  - Mark Blaxill\n\nIf you've heard that protecting IP is important\, but you're not sure why\, this presentation will help. Because IP security isn't just part of the ballgame\, it is the ballgame. And there are certain "musts" that are bare minimums for you to consider and implement.\n\nLocal attorney and former Air Force fighter pilot Michael Martensen shares his decades of experience with a concise\, insightful talk that will address some IP myths:\n\n \tProtecting IP is futile when dealing with the government.\n \tIn the government space arena\, IP concerns are a waste of time and money.\n \tCommercializing IP derived from government contracts is impossible.\n \tThe prime contractor will take my IP and underbid me.\n\nThis is a free event. Includes a light breakfast and coffee.
URL:https://www.socota.org/event/innovation-without-protection-philanthropy-seminar/
LOCATION:555 Pikes Peak Ave\, Colorado Springs\, CO\, 80903\, United States
CATEGORIES:SCTA
ORGANIZER;CN="Rebecca%20Decker":MAILTO:rebecca.decker@dev.socota.org
END:VEVENT
END:VCALENDAR