BEGIN:VCALENDAR
VERSION:2.0
PRODID:-//Southern Colorado Technology Alliance - ECPv4.5.1//NONSGML v1.0//EN
CALSCALE:GREGORIAN
METHOD:PUBLISH
X-WR-CALNAME:Southern Colorado Technology Alliance
X-ORIGINAL-URL:https://www.socota.org
X-WR-CALDESC:Events for Southern Colorado Technology Alliance
BEGIN:VEVENT
DTSTART;TZID=America/Denver:20171101T143000
DTEND;TZID=America/Denver:20171101T160000
DTSTAMP:20260423T182950
CREATED:20171020T175834Z
LAST-MODIFIED:20171020T175834Z
UID:1831-1509546600-1509552000@www.socota.org
SUMMARY:Franchising for Veterans (National Veterans Small Business Week)
DESCRIPTION:The military taught you self-discipline\, leadership and teamwork. Are you ready to use those skills in your own business? Be your own boss and control your own destiny. Discover business ownership and learn about the many options available in the franchise world (no\, it's not just fast food!).\nSpeaker: Cindy Rayfield of FranNet Mountain West
URL:https://www.socota.org/event/franchising-veterans-national-veterans-small-business-week/
LOCATION:555 Pikes Peak Ave\, Colorado Springs\, CO\, 80903\, United States
CATEGORIES:Sbdc
END:VEVENT
END:VCALENDAR