BEGIN:VCALENDAR
VERSION:2.0
PRODID:-//Southern Colorado Technology Alliance - ECPv4.5.1//NONSGML v1.0//EN
CALSCALE:GREGORIAN
METHOD:PUBLISH
X-WR-CALNAME:Southern Colorado Technology Alliance
X-ORIGINAL-URL:https://www.socota.org
X-WR-CALDESC:Events for Southern Colorado Technology Alliance
BEGIN:VEVENT
DTSTART;TZID=America/Denver:20171018T173000
DTEND;TZID=America/Denver:20171018T190000
DTSTAMP:20260421T022909
CREATED:20170922T153127Z
LAST-MODIFIED:20170922T153127Z
UID:1750-1508347800-1508353200@www.socota.org
SUMMARY:Courses for Creatives: Local Artist Opportunities
DESCRIPTION:By Brett Andrus\nPainter and co-owner of the Modbo Gallery \nA compilation of local artists will address opportunities that exist to showcase and exhibit work and performance in Colorado Springs. How do you best approach a gallery\, venue\, or other arts space with your work and portfolio? What are the logistics of booking a music gig\, gallery show\, recital\, or showcasing another body of work? What are actions you can take today to advance your visibility as a local artist?  \n Discounts available! $5 for students (code: STUDENT) and Pikes Peak Arts Council Members (code: PPAC) \nRegister Now 
URL:https://www.socota.org/event/courses-for-creatives-local-artist-opportunities/
CATEGORIES:Sbdc
END:VEVENT
END:VCALENDAR