BEGIN:VCALENDAR
VERSION:2.0
PRODID:-//Southern Colorado Technology Alliance - ECPv4.5.1//NONSGML v1.0//EN
CALSCALE:GREGORIAN
METHOD:PUBLISH
X-WR-CALNAME:Southern Colorado Technology Alliance
X-ORIGINAL-URL:https://www.socota.org
X-WR-CALDESC:Events for Southern Colorado Technology Alliance
BEGIN:VEVENT
DTSTART;TZID=America/Denver:20171207T113000
DTEND;TZID=America/Denver:20171207T133000
DTSTAMP:20260424T113047
CREATED:20170922T165720Z
LAST-MODIFIED:20170922T165720Z
UID:1823-1512646200-1512653400@www.socota.org
SUMMARY:Boot Camp: Steps to Owning Your Business
DESCRIPTION:Taking the first step to starting your business can be difficult! This workshop will be a realistic starting point for all budding entrepreneurs. The two-hour workshop will be PACKED and FAST PACED. At the end\, you will have a good feel for the level of effort and commitment it will take to make your business successful. If you’re serious about starting a business\, you don’t want to miss this workshop. This will be a Lunch ‘n Learn…Feel free to bring your lunch!!\nPresented by:\nSteve Imke\nSBDC Consultant\, Small Business Specialist\nFor more info Click Here\nRegister Now 
URL:https://www.socota.org/event/boot-camp-steps-to-owning-your-business-3/
CATEGORIES:Sbdc
END:VEVENT
END:VCALENDAR