BEGIN:VCALENDAR
VERSION:2.0
PRODID:-//Southern Colorado Technology Alliance - ECPv4.5.1//NONSGML v1.0//EN
CALSCALE:GREGORIAN
METHOD:PUBLISH
X-WR-CALNAME:Southern Colorado Technology Alliance
X-ORIGINAL-URL:https://www.socota.org
X-WR-CALDESC:Events for Southern Colorado Technology Alliance
BEGIN:VEVENT
DTSTART;TZID=America/Denver:20171213T080000
DTEND;TZID=America/Denver:20171213T170000
DTSTAMP:20260424T130906
CREATED:20170922T165228Z
LAST-MODIFIED:20170922T165228Z
UID:1811-1513152000-1513184400@www.socota.org
SUMMARY:1 Million Cups
DESCRIPTION:Based on the notion that entrepreneurs discover solutions and network over a million cups of coffee\, the Kauffman Foundation developed 1 Million Cups – a free program designed to educate\, engage\, and connect entrepreneurs with their communities. \nhttp://www.1millioncups.com/about 
URL:https://www.socota.org/event/1-million-cups-10/
END:VEVENT
END:VCALENDAR